BEGIN:VCALENDAR
VERSION:2.0
PRODID:-//captaincares.org//NONSGML kigkonsult.se iCalcreator 2.30.10//
CALSCALE:GREGORIAN
METHOD:PUBLISH
UID:8f427ef8-4b8f-4874-b9fe-6d320d9bdcd1
X-WR-CALDESC:The 4th Annual Culnan’s King Of the Deadlift will be held Satu
 rday October 16th\, 2021 at the Latham Holiday Inn. All lifters are welcom
 e\, whether you’re a new lifter or experienced lifter\, this event is for 
 you! The event will be $50 per lifter (includes event shirt) and $10 per s
 pectator with cash prizes for winners and raffles at the event. 100% of th
 e proceeds will benefit CAPTAIN Community Human Services @captaincares thr
 ough the Zachary Culnan Memorial Family Fund. Over the past 3 events we ha
 ve been able to raise $50\,000 to date!
X-WR-RELCALID:83f469e122f56f7019589db9bbe85f95
X-WR-TIMEZONE:America/New_York
BEGIN:VTIMEZONE
TZID:America/New_York
BEGIN:STANDARD
TZNAME:EST
DTSTART:20201101T020000
TZOFFSETFROM:-0400
TZOFFSETTO:-0500
RDATE:20211107T020000
RDATE:20221106T020000
END:STANDARD
BEGIN:DAYLIGHT
TZNAME:EDT
DTSTART:20210314T020000
TZOFFSETFROM:-0500
TZOFFSETTO:-0400
RDATE:20220313T020000
RDATE:20230312T020000
END:DAYLIGHT
END:VTIMEZONE
BEGIN:VEVENT
UID:becf612c-0e46-4961-965f-98ac59534927
DTSTAMP:20260425T103940Z
DESCRIPTION:The 4th Annual Culnan’s King Of the Deadlift will be held Satur
 day October 16th\, 2021 at the Latham Holiday Inn. All lifters are welcome
 \, whether you’re a new lifter or experienced lifter\, this event is for y
 ou! The event will be $50 per lifter (includes event shirt) and $10 per sp
 ectator with cash prizes for winners and raffles at the event. 100% of the
  proceeds will benefit CAPTAIN Community Human Services @captaincares thro
 ugh the Zachary Culnan Memorial Family Fund. Over the past 3 events we hav
 e been able to raise $50\,000 to date!
DTSTART;TZID=America/New_York:20211016T100000
DTEND;TZID=America/New_York:20211016T140000
LOCATION:Holiday Inn Express - Latham\, 400 Old Loudon Rd\, Latham\, NY 121
 10 US
SUMMARY:4th Annual Culnan's King of the Deadlift
END:VEVENT
END:VCALENDAR
