BEGIN:VCALENDAR
VERSION:2.0
PRODID:-//captaincares.org//NONSGML kigkonsult.se iCalcreator 2.30.10//
CALSCALE:GREGORIAN
METHOD:PUBLISH
UID:e682c69b-0ee3-4746-a3a9-e255dcddd603
X-WR-CALDESC:Hannaford Supermarkets has selected CAPTAIN CHS as a proud par
 tner for their Bloomin’ 4 Good Program! Throughout the month of September\
 , CAPTAIN CHS will receive $1 for every marked Bloomin' 4 Good bouquet sol
 d at the Hannaford on 262 Saratoga Road in Glenville!   A heartfelt thank 
 you to Hannaford for their commitment to community support.  Let's spread 
 the word\, and together\, let's make every bouquet count!
X-WR-RELCALID:8cde2a2e95acd8c3011afd0c9fba6a98
X-WR-TIMEZONE:America/New_York
BEGIN:VTIMEZONE
TZID:America/New_York
BEGIN:STANDARD
TZNAME:EST
DTSTART:20231105T020000
TZOFFSETFROM:-0400
TZOFFSETTO:-0500
RDATE:20241103T020000
RDATE:20251102T020000
END:STANDARD
BEGIN:DAYLIGHT
TZNAME:EDT
DTSTART:20240310T020000
TZOFFSETFROM:-0500
TZOFFSETTO:-0400
RDATE:20250309T020000
END:DAYLIGHT
END:VTIMEZONE
BEGIN:VEVENT
UID:5af31d1c-4f1a-48af-b0e6-9a735283fac8
DTSTAMP:20260420T083413Z
DESCRIPTION:Hannaford Supermarkets has selected CAPTAIN CHS as a proud part
 ner for their Bloomin’ 4 Good Program! Throughout the month of September\,
  CAPTAIN CHS will receive $1 for every marked Bloomin' 4 Good bouquet sold
  at the Hannaford on 262 Saratoga Road in Glenville!   A heartfelt thank y
 ou to Hannaford for their commitment to community support.  Let's spread t
 he word\, and together\, let's make every bouquet count!
DTSTART;TZID=America/New_York:20240901T060000
DTEND;TZID=America/New_York:20240930T060001
LOCATION:Hannaford\, 262 Saratoga Road\, Glenville\, NY 12302
SUMMARY:Hannaford Bloomin' for Good
END:VEVENT
END:VCALENDAR
