BEGIN:VCALENDAR
VERSION:2.0
PRODID:-//captaincares.org//NONSGML kigkonsult.se iCalcreator 2.30.10//
CALSCALE:GREGORIAN
METHOD:PUBLISH
UID:2a0927be-7d66-4d44-b411-af501214f035
X-WR-CALDESC:Join Ginny and Anne for a monthly Connection Corner for those 
 who are riding the rollercoaster of grief.
X-WR-RELCALID:88ebe3c0a3c1ca842d5ef805c5908927
X-WR-TIMEZONE:America/New_York
BEGIN:VTIMEZONE
TZID:America/New_York
BEGIN:STANDARD
TZNAME:EST
DTSTART:20251102T020000
TZOFFSETFROM:-0400
TZOFFSETTO:-0500
RDATE:20261101T020000
RDATE:20271107T020000
END:STANDARD
BEGIN:DAYLIGHT
TZNAME:EDT
DTSTART:20260308T020000
TZOFFSETFROM:-0500
TZOFFSETTO:-0400
RDATE:20270314T020000
END:DAYLIGHT
END:VTIMEZONE
BEGIN:VEVENT
UID:6840196c-f68e-4b13-9120-812197ae4c05
DTSTAMP:20260423T210208Z
DESCRIPTION:Join Ginny and Anne for a monthly Connection Corner for those w
 ho are riding the rollercoaster of grief.
DTSTART;TZID=America/New_York:20260612T100000
DTEND;TZID=America/New_York:20260612T110000
LOCATION:543 Saratoga Road\, Glenville\, NY 12302 US
SUMMARY:Connection Corner with Ginny and Anne
END:VEVENT
END:VCALENDAR
