BEGIN:VCALENDAR
VERSION:2.0
PRODID:-//captaincares.org//NONSGML kigkonsult.se iCalcreator 2.30.10//
CALSCALE:GREGORIAN
METHOD:PUBLISH
UID:f349a167-56e9-4282-8306-bddf00b029f3
X-WR-CALDESC:Please note our offices\, including Cheryl's Lodge and CAPTAIN
 's Treasures\, are closed today\, Friday\, June 19\, 2026 in observance of
  Juneteenth. Our Runaway and Homeless Youth Shelter remains open 24/7/365.
X-WR-RELCALID:6ba8e91f67ab7760f45736491e854294
X-WR-TIMEZONE:America/New_York
BEGIN:VTIMEZONE
TZID:America/New_York
BEGIN:STANDARD
TZNAME:EST
DTSTART:20251102T020000
TZOFFSETFROM:-0400
TZOFFSETTO:-0500
RDATE:20261101T020000
RDATE:20271107T020000
END:STANDARD
BEGIN:DAYLIGHT
TZNAME:EDT
DTSTART:20260308T020000
TZOFFSETFROM:-0500
TZOFFSETTO:-0400
RDATE:20270314T020000
END:DAYLIGHT
END:VTIMEZONE
BEGIN:VEVENT
UID:29a03869-8eda-494d-b09e-28b0453a2d60
DTSTAMP:20260420T102313Z
DESCRIPTION:Please note our offices\, including Cheryl's Lodge and CAPTAIN'
 s Treasures\, are closed today\, Friday\, June 19\, 2026 in observance of 
 Juneteenth. Our Runaway and Homeless Youth Shelter remains open 24/7/365.
DTSTART;TZID=America/New_York:20260619T060000
DTEND;TZID=America/New_York:20260619T060001
LOCATION:
SUMMARY:Juneteenth - Offices Closed
END:VEVENT
END:VCALENDAR
