BEGIN:VCALENDAR
VERSION:2.0
PRODID:-//captaincares.org//NONSGML kigkonsult.se iCalcreator 2.30.10//
CALSCALE:GREGORIAN
METHOD:PUBLISH
UID:63d420d1-9e94-4f4d-9079-c8274705ae31
X-WR-CALDESC:Please note our offices\, including Cheryl's Lodge\, are close
 d today\, Friday\, July 3\, 2026 in observance of Independence Day. Our Ru
 naway and Homeless Youth Shelter remains open 24/7/365.
X-WR-RELCALID:b01b78417d98361464d09064dc3325e4
X-WR-TIMEZONE:America/New_York
BEGIN:VTIMEZONE
TZID:America/New_York
BEGIN:STANDARD
TZNAME:EST
DTSTART:20251102T020000
TZOFFSETFROM:-0400
TZOFFSETTO:-0500
RDATE:20261101T020000
RDATE:20271107T020000
END:STANDARD
BEGIN:DAYLIGHT
TZNAME:EDT
DTSTART:20260308T020000
TZOFFSETFROM:-0500
TZOFFSETTO:-0400
RDATE:20270314T020000
END:DAYLIGHT
END:VTIMEZONE
BEGIN:VEVENT
UID:797de496-3671-4d04-9d04-88f3b9c87b53
DTSTAMP:20260423T205928Z
DESCRIPTION:Please note our offices\, including Cheryl's Lodge\, are closed
  today\, Friday\, July 3\, 2026 in observance of Independence Day. Our Run
 away and Homeless Youth Shelter remains open 24/7/365.
DTSTART;TZID=America/New_York:20260703T060000
DTEND;TZID=America/New_York:20260703T060001
LOCATION:
SUMMARY:Independence Day - Offices Closed
END:VEVENT
END:VCALENDAR
