BEGIN:VCALENDAR
VERSION:2.0
PRODID:-//captaincares.org//NONSGML kigkonsult.se iCalcreator 2.30.10//
CALSCALE:GREGORIAN
METHOD:PUBLISH
UID:36c82b2f-5ea2-46be-9435-00d198453628
X-WR-CALDESC:Join Ginny and Anne for a monthly Connection Corner for those 
 who are riding the rollercoaster of grief.
X-WR-RELCALID:3bf92a308c221e26796c45701df85915
X-WR-TIMEZONE:America/New_York
BEGIN:VTIMEZONE
TZID:America/New_York
BEGIN:STANDARD
TZNAME:EST
DTSTART:20251102T020000
TZOFFSETFROM:-0400
TZOFFSETTO:-0500
RDATE:20261101T020000
RDATE:20271107T020000
END:STANDARD
BEGIN:DAYLIGHT
TZNAME:EDT
DTSTART:20260308T020000
TZOFFSETFROM:-0500
TZOFFSETTO:-0400
RDATE:20270314T020000
END:DAYLIGHT
END:VTIMEZONE
BEGIN:VEVENT
UID:687ca9c0-5780-4a8b-a780-5ac5249b1850
DTSTAMP:20260423T210322Z
DESCRIPTION:Join Ginny and Anne for a monthly Connection Corner for those w
 ho are riding the rollercoaster of grief.
DTSTART;TZID=America/New_York:20260710T100000
DTEND;TZID=America/New_York:20260710T110000
LOCATION:543 Saratoga Road\, Glenville\, NY 12302 US
SUMMARY:Connection Corner with Ginny and Anne
END:VEVENT
END:VCALENDAR
