BEGIN:VCALENDAR
VERSION:2.0
PRODID:-//captaincares.org//NONSGML kigkonsult.se iCalcreator 2.30.10//
CALSCALE:GREGORIAN
METHOD:PUBLISH
UID:28aa157a-fcb6-4557-8185-c5eb5e881e84
X-WR-CALDESC:As one of the premiere events of the Saratoga summer\, I hope 
 that you will join Honorary Chairs Paul and Gwendolyn Harding as we dine a
 nd delight while mingling with friends and special guests from the world o
 f Thoroughbred Racing. This year\, we are proud to honor Tony and Joyce Ma
 shuta as our Community Heroes\, in appreciation of their longstanding comm
 itment to strengthening the Capital Region through philanthropy and partne
 rship.\n\nWe hope to make this year’s Gala the most spectacular and succes
 sful ever with Saratoga National’s award-winning golf course offering unsu
 rpassed views and world class cuisine in an open-air tent. Of course\, we’
 ll also have new and exciting items for our auction and raffle\, entertain
 ment\, a captivating program\, special guests\, and many more surprises!
X-WR-RELCALID:c2d80f89c8852622717415e1b37f39a3
X-WR-TIMEZONE:America/New_York
BEGIN:VTIMEZONE
TZID:America/New_York
BEGIN:STANDARD
TZNAME:EST
DTSTART:20251102T020000
TZOFFSETFROM:-0400
TZOFFSETTO:-0500
RDATE:20261101T020000
RDATE:20271107T020000
END:STANDARD
BEGIN:DAYLIGHT
TZNAME:EDT
DTSTART:20260308T020000
TZOFFSETFROM:-0500
TZOFFSETTO:-0400
RDATE:20270314T020000
END:DAYLIGHT
END:VTIMEZONE
BEGIN:VEVENT
UID:689eee62-e01f-4e7d-b400-e467539f79fe
DTSTAMP:20260419T123513Z
DESCRIPTION:As one of the premiere events of the Saratoga summer\, I hope t
 hat you will join Honorary Chairs Paul and Gwendolyn Harding as we dine an
 d delight while mingling with friends and special guests from the world of
  Thoroughbred Racing. This year\, we are proud to honor Tony and Joyce Mas
 huta as our Community Heroes\, in appreciation of their longstanding commi
 tment to strengthening the Capital Region through philanthropy and partner
 ship.\n\nWe hope to make this year’s Gala the most spectacular and success
 ful ever with Saratoga National’s award-winning golf course offering unsur
 passed views and world class cuisine in an open-air tent. Of course\, we’l
 l also have new and exciting items for our auction and raffle\, entertainm
 ent\, a captivating program\, special guests\, and many more surprises!
DTSTART;TZID=America/New_York:20260723T180000
DTEND;TZID=America/New_York:20260723T220000
LOCATION:Prime at Saratoga National Golf Club\, 458 Union Street\, Saratoga
  Springs\, NY 12866
SUMMARY:An Unbridled Affair Gala
END:VEVENT
END:VCALENDAR
