BEGIN:VCALENDAR
VERSION:2.0
PRODID:-//captaincares.org//NONSGML kigkonsult.se iCalcreator 2.30.10//
CALSCALE:GREGORIAN
METHOD:PUBLISH
UID:3e98e9d0-6656-4e87-b067-cac3613bce72
X-WR-CALDESC:Please note our offices\, including Cheryl's Lodge and CAPTAIN
 's Treasures\, are closed today\, Monday\, September 7\, 2026\, in observa
 nce of Labor Day. Our Runaway and Homeless Youth Shelter remains open 24/7
 /365.
X-WR-RELCALID:8ccabbdeea0784920ff8dbd7aa8b3b85
X-WR-TIMEZONE:America/New_York
BEGIN:VTIMEZONE
TZID:America/New_York
BEGIN:STANDARD
TZNAME:EST
DTSTART:20251102T020000
TZOFFSETFROM:-0400
TZOFFSETTO:-0500
RDATE:20261101T020000
RDATE:20271107T020000
END:STANDARD
BEGIN:DAYLIGHT
TZNAME:EDT
DTSTART:20260308T020000
TZOFFSETFROM:-0500
TZOFFSETTO:-0400
RDATE:20270314T020000
END:DAYLIGHT
END:VTIMEZONE
BEGIN:VEVENT
UID:6a0937e6-cb2f-468c-a778-bb25f9a32dac
DTSTAMP:20260423T210004Z
DESCRIPTION:Please note our offices\, including Cheryl's Lodge and CAPTAIN'
 s Treasures\, are closed today\, Monday\, September 7\, 2026\, in observan
 ce of Labor Day. Our Runaway and Homeless Youth Shelter remains open 24/7/
 365.
DTSTART;TZID=America/New_York:20260907T060000
DTEND;TZID=America/New_York:20260907T060001
LOCATION:
SUMMARY:Labor Day - Offices Closed
END:VEVENT
END:VCALENDAR
