BEGIN:VCALENDAR
VERSION:2.0
PRODID:-//captaincares.org//NONSGML kigkonsult.se iCalcreator 2.30.10//
CALSCALE:GREGORIAN
METHOD:PUBLISH
UID:a6179a17-d153-4f41-a904-4c0803c2cb12
X-WR-CALDESC:Join Ginny and Anne for a monthly Connection Corner for those 
 who are riding the rollercoaster of grief.
X-WR-RELCALID:a8f8acf40f0bf723f2145db7a64a3b0d
X-WR-TIMEZONE:America/New_York
BEGIN:VTIMEZONE
TZID:America/New_York
BEGIN:STANDARD
TZNAME:EST
DTSTART:20251102T020000
TZOFFSETFROM:-0400
TZOFFSETTO:-0500
RDATE:20261101T020000
RDATE:20271107T020000
END:STANDARD
BEGIN:DAYLIGHT
TZNAME:EDT
DTSTART:20260308T020000
TZOFFSETFROM:-0500
TZOFFSETTO:-0400
RDATE:20270314T020000
RDATE:20280312T020000
END:DAYLIGHT
END:VTIMEZONE
BEGIN:VEVENT
UID:be9aaeb6-778c-4477-8544-8a688be1ce49
DTSTAMP:20260423T210358Z
DESCRIPTION:Join Ginny and Anne for a monthly Connection Corner for those w
 ho are riding the rollercoaster of grief.
DTSTART;TZID=America/New_York:20260911T100000
DTEND;TZID=America/New_York:20260911T110000
LOCATION:543 Saratoga Road\, Glenville\, NY 12302 US
SUMMARY:Connection Corner with Ginny and Anne
END:VEVENT
END:VCALENDAR
