BEGIN:VCALENDAR
VERSION:2.0
PRODID:-//captaincares.org//NONSGML kigkonsult.se iCalcreator 2.30.10//
CALSCALE:GREGORIAN
METHOD:PUBLISH
UID:7a7c2f10-b769-411f-8b42-63344634c824
X-WR-CALDESC:Join Ginny and Anne for a monthly Connection Corner for those 
 who are riding the rollercoaster of grief.
X-WR-RELCALID:a9346b80690eeb84d3934129d788bb43
X-WR-TIMEZONE:America/New_York
BEGIN:VTIMEZONE
TZID:America/New_York
BEGIN:STANDARD
TZNAME:EST
DTSTART:20251102T020000
TZOFFSETFROM:-0400
TZOFFSETTO:-0500
RDATE:20261101T020000
RDATE:20271107T020000
END:STANDARD
BEGIN:DAYLIGHT
TZNAME:EDT
DTSTART:20260308T020000
TZOFFSETFROM:-0500
TZOFFSETTO:-0400
RDATE:20270314T020000
RDATE:20280312T020000
END:DAYLIGHT
END:VTIMEZONE
BEGIN:VEVENT
UID:35353610-6a3e-435b-90be-3a2f423a9122
DTSTAMP:20260423T210728Z
DESCRIPTION:Join Ginny and Anne for a monthly Connection Corner for those w
 ho are riding the rollercoaster of grief.
DTSTART;TZID=America/New_York:20261009T100000
DTEND;TZID=America/New_York:20261009T110000
LOCATION:543 Saratoga Road\, Glenville\, NY 12302 US
SUMMARY:Connection Corner with Ginny and Anne
END:VEVENT
END:VCALENDAR
