BEGIN:VCALENDAR
VERSION:2.0
PRODID:-//captaincares.org//NONSGML kigkonsult.se iCalcreator 2.30.10//
CALSCALE:GREGORIAN
METHOD:PUBLISH
UID:a9d142d9-6a43-46e7-8f4b-83e0a66c675a
X-WR-CALDESC:Please note our offices\, including Cheryl's Lodge\, are close
 d today\, Monday\, October 12\, 2026\, in observance of Indigeneous People
 s Day. Our Runaway and Homeless Youth Shelter remains open 24/7/365.
X-WR-RELCALID:476ce04b622c248d3da38a447ee364d9
X-WR-TIMEZONE:America/New_York
BEGIN:VTIMEZONE
TZID:America/New_York
BEGIN:STANDARD
TZNAME:EST
DTSTART:20251102T020000
TZOFFSETFROM:-0400
TZOFFSETTO:-0500
RDATE:20261101T020000
RDATE:20271107T020000
END:STANDARD
BEGIN:DAYLIGHT
TZNAME:EDT
DTSTART:20260308T020000
TZOFFSETFROM:-0500
TZOFFSETTO:-0400
RDATE:20270314T020000
RDATE:20280312T020000
END:DAYLIGHT
END:VTIMEZONE
BEGIN:VEVENT
UID:66debc70-7d9b-4413-bbef-6e9fe0dbc2e7
DTSTAMP:20260423T210111Z
DESCRIPTION:Please note our offices\, including Cheryl's Lodge\, are closed
  today\, Monday\, October 12\, 2026\, in observance of Indigeneous Peoples
  Day. Our Runaway and Homeless Youth Shelter remains open 24/7/365.
DTSTART;TZID=America/New_York:20261012T060000
DTEND;TZID=America/New_York:20261012T060001
LOCATION:
SUMMARY:Indigenous Peoples Day - Offices Closed
END:VEVENT
END:VCALENDAR
