BEGIN:VCALENDAR
VERSION:2.0
PRODID:-//captaincares.org//NONSGML kigkonsult.se iCalcreator 2.30.10//
CALSCALE:GREGORIAN
METHOD:PUBLISH
UID:bb5d46a1-6e8a-4f48-a5e4-f05cf37dba25
X-WR-CALDESC:Join Ginny and Anne for a monthly Connection Corner for those 
 who are riding the rollercoaster of grief.
X-WR-RELCALID:fa60bfadafcdcc46960638594ce5f6ee
X-WR-TIMEZONE:America/New_York
BEGIN:VTIMEZONE
TZID:America/New_York
BEGIN:STANDARD
TZNAME:EST
DTSTART:20261101T020000
TZOFFSETFROM:-0400
TZOFFSETTO:-0500
RDATE:20271107T020000
END:STANDARD
BEGIN:DAYLIGHT
TZNAME:EDT
DTSTART:20260308T020000
TZOFFSETFROM:-0500
TZOFFSETTO:-0400
RDATE:20270314T020000
RDATE:20280312T020000
END:DAYLIGHT
END:VTIMEZONE
BEGIN:VEVENT
UID:5e619e52-c619-4f4e-a556-635ebafb675b
DTSTAMP:20260423T210607Z
DESCRIPTION:Join Ginny and Anne for a monthly Connection Corner for those w
 ho are riding the rollercoaster of grief.
DTSTART;TZID=America/New_York:20261113T100000
DTEND;TZID=America/New_York:20261113T110000
LOCATION:543 Saratoga Road\, Glenville\, NY 12302 US
SUMMARY:Connection Corner with Ginny and Anne
END:VEVENT
END:VCALENDAR
