BEGIN:VCALENDAR
VERSION:2.0
PRODID:-//captaincares.org//NONSGML kigkonsult.se iCalcreator 2.30.10//
CALSCALE:GREGORIAN
METHOD:PUBLISH
UID:c7998cef-591b-4e60-9864-bbd63b0ddd99
X-WR-CALDESC:Please note our offices\, including Cheryl's Lodge and CAPTAIN
 's Treasures\, are closed today\, Thursday\, November 26\, 2026 and tomorr
 ow\, Friday\, November 27\, 2026\, in observance of Thanksgiving. Our Runa
 way and Homeless Youth Shelter remains open 24/7/365.
X-WR-RELCALID:9887e050e8d2a7ae5fa5bd45e3e79417
X-WR-TIMEZONE:America/New_York
BEGIN:VTIMEZONE
TZID:America/New_York
BEGIN:STANDARD
TZNAME:EST
DTSTART:20261101T020000
TZOFFSETFROM:-0400
TZOFFSETTO:-0500
RDATE:20271107T020000
END:STANDARD
BEGIN:DAYLIGHT
TZNAME:EDT
DTSTART:20260308T020000
TZOFFSETFROM:-0500
TZOFFSETTO:-0400
RDATE:20270314T020000
RDATE:20280312T020000
END:DAYLIGHT
END:VTIMEZONE
BEGIN:VEVENT
UID:703ba041-2d10-4fd5-974f-6420dfffa14b
DTSTAMP:20260423T210029Z
DESCRIPTION:Please note our offices\, including Cheryl's Lodge and CAPTAIN'
 s Treasures\, are closed today\, Thursday\, November 26\, 2026 and tomorro
 w\, Friday\, November 27\, 2026\, in observance of Thanksgiving. Our Runaw
 ay and Homeless Youth Shelter remains open 24/7/365.
DTSTART;TZID=America/New_York:20261126T060000
DTEND;TZID=America/New_York:20261127T060001
LOCATION:
SUMMARY:Thanksgiving - Offices Closed
END:VEVENT
END:VCALENDAR
