BEGIN:VCALENDAR
VERSION:2.0
PRODID:-//captaincares.org//NONSGML kigkonsult.se iCalcreator 2.30.10//
CALSCALE:GREGORIAN
METHOD:PUBLISH
UID:f436e00c-f203-4aea-9dfc-0ba60f442627
X-WR-CALDESC:Please note our offices\, including Cheryl's Lodge and CAPTAIN
 's Treasures\, are closed today\, Friday\, December 25\, 2026. Our offices
 \, including Cheryl's Lodge\, are also closed on Monday\, December 28\, 20
 26\, in observance of Christmas. Our Runaway and Homeless Youth Shelter re
 mains open 24/7/365.
X-WR-RELCALID:f36bee222008ff707413a09b8e02dd63
X-WR-TIMEZONE:America/New_York
BEGIN:VTIMEZONE
TZID:America/New_York
BEGIN:STANDARD
TZNAME:EST
DTSTART:20261101T020000
TZOFFSETFROM:-0400
TZOFFSETTO:-0500
RDATE:20271107T020000
END:STANDARD
BEGIN:DAYLIGHT
TZNAME:EDT
DTSTART:20260308T020000
TZOFFSETFROM:-0500
TZOFFSETTO:-0400
RDATE:20270314T020000
RDATE:20280312T020000
END:DAYLIGHT
END:VTIMEZONE
BEGIN:VEVENT
UID:dd337acb-2c79-45ff-ae33-d4d7e8a3faa6
DTSTAMP:20260423T205847Z
DESCRIPTION:Please note our offices\, including Cheryl's Lodge and CAPTAIN'
 s Treasures\, are closed today\, Friday\, December 25\, 2026. Our offices\
 , including Cheryl's Lodge\, are also closed on Monday\, December 28\, 202
 6\, in observance of Christmas. Our Runaway and Homeless Youth Shelter rem
 ains open 24/7/365.
DTSTART;TZID=America/New_York:20261225T060000
DTEND;TZID=America/New_York:20261228T060001
LOCATION:
SUMMARY:Christmas - Offices Closed
END:VEVENT
END:VCALENDAR
